BEGIN:VCALENDAR
VERSION:2.0
PRODID:-//time.you/holidays//NONSGML v1.0//EN
BEGIN:VEVENT
UID:e738cfef-f0f2-4b66-b05b-eaa7d6861390
DTSTAMP:20260421T203336Z
DTSTART;VALUE=DATE:20260505
SUMMARY:Primary Election Day (United States)
END:VEVENT
END:VCALENDAR