BEGIN:VCALENDAR
VERSION:2.0
PRODID:-//time.you/holidays//NONSGML v1.0//EN
BEGIN:VEVENT
UID:040158f6-96ac-4e8e-abcc-8ddb3de96b62
DTSTAMP:20260422T054404Z
DTSTART;VALUE=DATE:20280327
SUMMARY:Prince Jonah Kuhio Kalanianaole Day (observed) (United States)
END:VEVENT
END:VCALENDAR