BEGIN:VCALENDAR
VERSION:2.0
PRODID:-//time.you/holidays//NONSGML v1.0//EN
BEGIN:VEVENT
UID:09575177-1544-4eb7-8ad4-9186345cffc5
DTSTAMP:20260422T071935Z
DTSTART;VALUE=DATE:20260326
SUMMARY:Prince Jonah Kuhio Kalanianaole Day (United States)
END:VEVENT
END:VCALENDAR