BEGIN:VCALENDAR
VERSION:2.0
PRODID:-//time.you/holidays//NONSGML v1.0//EN
BEGIN:VEVENT
UID:79c5a3de-c522-41c2-942a-17f14f931cdf
DTSTAMP:20260424T150659Z
DTSTART;VALUE=DATE:20270215
SUMMARY:Susan B. Anthony Day; Washington's Birthday (United States)
END:VEVENT
END:VCALENDAR