BEGIN:VCALENDAR
VERSION:2.0
PRODID:-//time.you/holidays//NONSGML v1.0//EN
BEGIN:VEVENT
UID:6e248805-9179-4b67-aee2-ebfcd0d7f9ba
DTSTAMP:20260421T143640Z
DTSTART;VALUE=DATE:20260302
SUMMARY:Texas Independence Day (United States)
END:VEVENT
END:VCALENDAR