BEGIN:VCALENDAR
VERSION:2.0
PRODID:-//time.you/holidays//NONSGML v1.0//EN
BEGIN:VEVENT
UID:248de4d6-372f-41b6-a30f-7919a86d929e
DTSTAMP:20260425T024828Z
DTSTART;VALUE=DATE:20260508
SUMMARY:Truman Day (United States)
END:VEVENT
END:VCALENDAR