BEGIN:VCALENDAR
VERSION:2.0
PRODID:-//time.you/holidays//NONSGML v1.0//EN
BEGIN:VEVENT
UID:bbdc4feb-4d81-494b-ad15-0644d33586e6
DTSTAMP:20260421T131230Z
DTSTART;VALUE=DATE:20261111
SUMMARY:Veterans Day (United States)
END:VEVENT
END:VCALENDAR