BEGIN:VCALENDAR
VERSION:2.0
PRODID:-//time.you/holidays//NONSGML v1.0//EN
BEGIN:VEVENT
UID:9ffb6a19-6269-4413-95d2-c647f5e10db8
DTSTAMP:20260422T070149Z
DTSTART;VALUE=DATE:20260810
SUMMARY:Victory Day (United States)
END:VEVENT
END:VCALENDAR