BEGIN:VCALENDAR
VERSION:2.0
PRODID:-//time.you/holidays//NONSGML v1.0//EN
BEGIN:VEVENT
UID:176b21a9-a3d6-4640-be9e-48c0fcc61f87
DTSTAMP:20260420T211637Z
DTSTART;VALUE=DATE:20260718
SUMMARY:Constitution Day (Uruguay)
END:VEVENT
END:VCALENDAR