BEGIN:VCALENDAR
VERSION:2.0
PRODID:-//time.you/holidays//NONSGML v1.0//EN
BEGIN:VEVENT
UID:d1c0a63d-c961-4262-801f-a0b732a6b499
DTSTAMP:20260420T053749Z
DTSTART;VALUE=DATE:20260825
SUMMARY:Independence Day (Uruguay)
END:VEVENT
END:VCALENDAR