BEGIN:VCALENDAR
VERSION:2.0
PRODID:-//time.you/holidays//NONSGML v1.0//EN
BEGIN:VEVENT
UID:fc58f083-0ea4-481f-a967-fb736444a418
DTSTAMP:20260422T051125Z
DTSTART;VALUE=DATE:20260101
SUMMARY:New Year's Day (Uruguay)
END:VEVENT
END:VCALENDAR