BEGIN:VCALENDAR
VERSION:2.0
PRODID:-//time.you/holidays//NONSGML v1.0//EN
BEGIN:VEVENT
UID:0910cd2e-1ced-4e36-9678-e8142b4f2c4e
DTSTAMP:20260421T211229Z
DTSTART;VALUE=DATE:20240322
SUMMARY:Additional day off by Presidential decree (Uzbekistan)
END:VEVENT
END:VCALENDAR