BEGIN:VCALENDAR
VERSION:2.0
PRODID:-//time.you/holidays//NONSGML v1.0//EN
BEGIN:VEVENT
UID:1e0214b0-3e8b-4c1e-9466-ac5c680cd393
DTSTAMP:20260421T062419Z
DTSTART;VALUE=DATE:20261208
SUMMARY:Constitution Day (Uzbekistan)
END:VEVENT
END:VCALENDAR