BEGIN:VCALENDAR
VERSION:2.0
PRODID:-//time.you/holidays//NONSGML v1.0//EN
BEGIN:VEVENT
UID:238feb21-e41c-401e-8130-9ada70741691
DTSTAMP:20260422T014704Z
DTSTART;VALUE=DATE:20240102
SUMMARY:Day off (substituted from 01/06/2024) (Uzbekistan)
END:VEVENT
END:VCALENDAR