BEGIN:VCALENDAR
VERSION:2.0
PRODID:-//time.you/holidays//NONSGML v1.0//EN
BEGIN:VEVENT
UID:041c6a75-17dd-4151-a3ae-37a8c83a7cf7
DTSTAMP:20260424T104611Z
DTSTART;VALUE=DATE:20230103
SUMMARY:Day off (substituted from 01/07/2023) (Uzbekistan)
END:VEVENT
END:VCALENDAR