BEGIN:VCALENDAR
VERSION:2.0
PRODID:-//time.you/holidays//NONSGML v1.0//EN
BEGIN:VEVENT
UID:ddb5580f-a01a-4ce2-8c2f-934f07027dd2
DTSTAMP:20260422T053717Z
DTSTART;VALUE=DATE:20210322
SUMMARY:Day off (substituted from 03/27/2021) (Uzbekistan)
END:VEVENT
END:VCALENDAR