BEGIN:VCALENDAR
VERSION:2.0
PRODID:-//time.you/holidays//NONSGML v1.0//EN
BEGIN:VEVENT
UID:5733ea09-73ed-4f10-91dc-1aa83e20d5a6
DTSTAMP:20260421T205634Z
DTSTART;VALUE=DATE:20210722
SUMMARY:Day off (substituted from 07/24/2021) (Uzbekistan)
END:VEVENT
END:VCALENDAR