BEGIN:VCALENDAR
VERSION:2.0
PRODID:-//time.you/holidays//NONSGML v1.0//EN
BEGIN:VEVENT
UID:b7161385-d236-436b-9c6d-39fbfe94b695
DTSTAMP:20260422T100534Z
DTSTART;VALUE=DATE:20270517
SUMMARY:Eid al-Adha (observed, estimated) (Uzbekistan)
END:VEVENT
END:VCALENDAR