BEGIN:VCALENDAR
VERSION:2.0
PRODID:-//time.you/holidays//NONSGML v1.0//EN
BEGIN:VEVENT
UID:6b01edb9-382d-4709-8c00-1d5b73041e42
DTSTAMP:20260424T122249Z
DTSTART;VALUE=DATE:20250330
SUMMARY:Eid al-Fitr (Uzbekistan)
END:VEVENT
END:VCALENDAR