BEGIN:VCALENDAR
VERSION:2.0
PRODID:-//time.you/holidays//NONSGML v1.0//EN
BEGIN:VEVENT
UID:805f7858-718e-4cc5-a181-3caeccb3d33c
DTSTAMP:20260424T053304Z
DTSTART;VALUE=DATE:20290903
SUMMARY:Independence Day (observed) (Uzbekistan)
END:VEVENT
END:VCALENDAR