BEGIN:VCALENDAR
VERSION:2.0
PRODID:-//time.you/holidays//NONSGML v1.0//EN
BEGIN:VEVENT
UID:83769cc8-d528-4921-85ef-f5061b4b8662
DTSTAMP:20260422T020747Z
DTSTART;VALUE=DATE:20261001
SUMMARY:Teachers and Instructors Day (Uzbekistan)
END:VEVENT
END:VCALENDAR