BEGIN:VCALENDAR
VERSION:2.0
PRODID:-//time.you/holidays//NONSGML v1.0//EN
BEGIN:VEVENT
UID:6d566fe7-ce24-41ee-92b4-91cb8ac2d16d
DTSTAMP:20260421T131635Z
DTSTART;VALUE=DATE:20260514
SUMMARY:Ascension Day (Vanuatu)
END:VEVENT
END:VCALENDAR