BEGIN:VCALENDAR
VERSION:2.0
PRODID:-//time.you/holidays//NONSGML v1.0//EN
BEGIN:VEVENT
UID:19d5cdd6-4ab6-4a62-82b2-06111eb67fa9
DTSTAMP:20260424T070934Z
DTSTART;VALUE=DATE:20260724
SUMMARY:Children's Day (Vanuatu)
END:VEVENT
END:VCALENDAR