BEGIN:VCALENDAR
VERSION:2.0
PRODID:-//time.you/holidays//NONSGML v1.0//EN
BEGIN:VEVENT
UID:d5b33a16-bb2c-4d5d-a5d1-389bd9df6fff
DTSTAMP:20260422T004636Z
DTSTART;VALUE=DATE:20261225
SUMMARY:Christmas Day (Vanuatu)
END:VEVENT
END:VCALENDAR