BEGIN:VCALENDAR
VERSION:2.0
PRODID:-//time.you/holidays//NONSGML v1.0//EN
BEGIN:VEVENT
UID:9fffd080-3b43-4149-8c1f-3ffdf33ed650
DTSTAMP:20260425T134055Z
DTSTART;VALUE=DATE:20311006
SUMMARY:Constitution Day (observed) (Vanuatu)
END:VEVENT
END:VCALENDAR