BEGIN:VCALENDAR
VERSION:2.0
PRODID:-//time.you/holidays//NONSGML v1.0//EN
BEGIN:VEVENT
UID:4f46965d-f2c2-4f32-a3d7-064d4ac48980
DTSTAMP:20260424T190447Z
DTSTART;VALUE=DATE:20260406
SUMMARY:Easter Monday (Vanuatu)
END:VEVENT
END:VCALENDAR