BEGIN:VCALENDAR
VERSION:2.0
PRODID:-//time.you/holidays//NONSGML v1.0//EN
BEGIN:VEVENT
UID:12ec80cf-d6f2-45f9-b184-a117d1f96d9e
DTSTAMP:20260421T223719Z
DTSTART;VALUE=DATE:20271227
SUMMARY:Family Day (observed) (Vanuatu)
END:VEVENT
END:VCALENDAR