BEGIN:VCALENDAR
VERSION:2.0
PRODID:-//time.you/holidays//NONSGML v1.0//EN
BEGIN:VEVENT
UID:0d547cea-5819-4805-b5e8-859efbe0206d
DTSTAMP:20260420T125158Z
DTSTART;VALUE=DATE:20261226
SUMMARY:Family Day (Vanuatu)
END:VEVENT
END:VCALENDAR