BEGIN:VCALENDAR
VERSION:2.0
PRODID:-//time.you/holidays//NONSGML v1.0//EN
BEGIN:VEVENT
UID:936227d0-bca4-46eb-b6b6-57ddeb68ecec
DTSTAMP:20260423T222848Z
DTSTART;VALUE=DATE:20260403
SUMMARY:Good Friday (Vanuatu)
END:VEVENT
END:VCALENDAR