BEGIN:VCALENDAR
VERSION:2.0
PRODID:-//time.you/holidays//NONSGML v1.0//EN
BEGIN:VEVENT
UID:861f0aa9-84ef-4c4e-bfd1-d0dfbf247d97
DTSTAMP:20260424T213459Z
DTSTART;VALUE=DATE:20280731
SUMMARY:Independence Day (observed) (Vanuatu)
END:VEVENT
END:VCALENDAR