BEGIN:VCALENDAR
VERSION:2.0
PRODID:-//time.you/holidays//NONSGML v1.0//EN
BEGIN:VEVENT
UID:85ff0c68-346d-4c60-9f03-79b87770f9bc
DTSTAMP:20260424T021310Z
DTSTART;VALUE=DATE:20330502
SUMMARY:Labour Day (observed) (Vanuatu)
END:VEVENT
END:VCALENDAR