BEGIN:VCALENDAR
VERSION:2.0
PRODID:-//time.you/holidays//NONSGML v1.0//EN
BEGIN:VEVENT
UID:5d6a292a-8dd0-4c6d-9517-f41f5a3dc3f7
DTSTAMP:20260424T053255Z
DTSTART;VALUE=DATE:20340102
SUMMARY:New Year's Day (observed) (Vanuatu)
END:VEVENT
END:VCALENDAR