BEGIN:VCALENDAR
VERSION:2.0
PRODID:-//time.you/holidays//NONSGML v1.0//EN
BEGIN:VEVENT
UID:2634113b-522a-455b-ba30-68ff28069fb9
DTSTAMP:20260422T065436Z
DTSTART;VALUE=DATE:20260101
SUMMARY:New Year's Day (Vanuatu)
END:VEVENT
END:VCALENDAR