BEGIN:VCALENDAR
VERSION:2.0
PRODID:-//time.you/holidays//NONSGML v1.0//EN
BEGIN:VEVENT
UID:63941803-464d-471a-90f9-793db7b388fe
DTSTAMP:20260424T012715Z
DTSTART;VALUE=DATE:20261130
SUMMARY:Unity Day (observed) (Vanuatu)
END:VEVENT
END:VCALENDAR