BEGIN:VCALENDAR
VERSION:2.0
PRODID:-//time.you/holidays//NONSGML v1.0//EN
BEGIN:VEVENT
UID:4e06f097-2e58-4eeb-bea8-0c7d9aaf494b
DTSTAMP:20260422T014439Z
DTSTART;VALUE=DATE:20260508
SUMMARY:Anniversary of the Election of the Holy Father (Vatican City)
END:VEVENT
END:VCALENDAR