BEGIN:VCALENDAR
VERSION:2.0
PRODID:-//time.you/holidays//NONSGML v1.0//EN
BEGIN:VEVENT
UID:d0595277-3b10-48c3-95cf-9ff01ea7b8e6
DTSTAMP:20260421T222400Z
DTSTART;VALUE=DATE:20260815
SUMMARY:Assumption of Mary Day (Vatican City)
END:VEVENT
END:VCALENDAR