BEGIN:VCALENDAR
VERSION:2.0
PRODID:-//time.you/holidays//NONSGML v1.0//EN
BEGIN:VEVENT
UID:ba64a417-ffd6-4f39-ad23-db96f3f25396
DTSTAMP:20260421T235834Z
DTSTART;VALUE=DATE:20260816
SUMMARY:Day After Assumption of Mary (Vatican City)
END:VEVENT
END:VCALENDAR