BEGIN:VCALENDAR
VERSION:2.0
PRODID:-//time.you/holidays//NONSGML v1.0//EN
BEGIN:VEVENT
UID:05a1b189-7319-490f-8411-663dd43c11f8
DTSTAMP:20260421T122640Z
DTSTART;VALUE=DATE:20260406
SUMMARY:Easter Monday (Vatican City)
END:VEVENT
END:VCALENDAR