BEGIN:VCALENDAR
VERSION:2.0
PRODID:-//time.you/holidays//NONSGML v1.0//EN
BEGIN:VEVENT
UID:43eded6d-c461-4959-b0ab-fc2de9fe8bbd
DTSTAMP:20260422T070136Z
DTSTART;VALUE=DATE:20260404
SUMMARY:Holy Saturday (Vatican City)
END:VEVENT
END:VCALENDAR