BEGIN:VCALENDAR
VERSION:2.0
PRODID:-//time.you/holidays//NONSGML v1.0//EN
BEGIN:VEVENT
UID:dc1d0e5d-7196-434a-b620-ef7ee71158fc
DTSTAMP:20260421T183711Z
DTSTART;VALUE=DATE:20260402
SUMMARY:Maundy Thursday (Vatican City)
END:VEVENT
END:VCALENDAR