BEGIN:VCALENDAR
VERSION:2.0
PRODID:-//time.you/holidays//NONSGML v1.0//EN
BEGIN:VEVENT
UID:5070504b-e144-40d0-8391-17084c65cb30
DTSTAMP:20260423T095718Z
DTSTART;VALUE=DATE:20261226
SUMMARY:Saint Stephen's Day (Vatican City)
END:VEVENT
END:VCALENDAR