BEGIN:VCALENDAR
VERSION:2.0
PRODID:-//time.you/holidays//NONSGML v1.0//EN
BEGIN:VEVENT
UID:b3c0fc6e-e209-4829-ae4c-dca140fd8e7e
DTSTAMP:20260422T043303Z
DTSTART;VALUE=DATE:20260101
SUMMARY:Solemnity of Mary, Mother of God (Vatican City)
END:VEVENT
END:VCALENDAR