BEGIN:VCALENDAR
VERSION:2.0
PRODID:-//time.you/holidays//NONSGML v1.0//EN
BEGIN:VEVENT
UID:fc995bb8-81db-4c8d-91c9-715432aa9a4d
DTSTAMP:20260420T084830Z
DTSTART;VALUE=DATE:20260724
SUMMARY:Birthday of Simon Bolivar (Venezuela)
END:VEVENT
END:VCALENDAR