BEGIN:VCALENDAR
VERSION:2.0
PRODID:-//time.you/holidays//NONSGML v1.0//EN
BEGIN:VEVENT
UID:2445bd1d-a70d-496c-ad12-91033e7946d8
DTSTAMP:20260420T084149Z
DTSTART;VALUE=DATE:20261225
SUMMARY:Christmas Day (Venezuela)
END:VEVENT
END:VCALENDAR