BEGIN:VCALENDAR
VERSION:2.0
PRODID:-//time.you/holidays//NONSGML v1.0//EN
BEGIN:VEVENT
UID:32b1b205-fff2-4e8b-a495-5be18ea6ba80
DTSTAMP:20260420T062425Z
DTSTART;VALUE=DATE:20261224
SUMMARY:Christmas Eve (Venezuela)
END:VEVENT
END:VCALENDAR