BEGIN:VCALENDAR
VERSION:2.0
PRODID:-//time.you/holidays//NONSGML v1.0//EN
BEGIN:VEVENT
UID:eea0dc8d-e233-455f-8c7a-9b809550f06b
DTSTAMP:20260422T064146Z
DTSTART;VALUE=DATE:20260419
SUMMARY:Declaration of Independence (Venezuela)
END:VEVENT
END:VCALENDAR