BEGIN:VCALENDAR
VERSION:2.0
PRODID:-//time.you/holidays//NONSGML v1.0//EN
BEGIN:VEVENT
UID:5cf9e315-6ac0-44dd-9b28-9421e5a01ee2
DTSTAMP:20260420T131547Z
DTSTART;VALUE=DATE:20260705
SUMMARY:Independence Day (Venezuela)
END:VEVENT
END:VCALENDAR