BEGIN:VCALENDAR
VERSION:2.0
PRODID:-//time.you/holidays//NONSGML v1.0//EN
BEGIN:VEVENT
UID:8dc32c29-3e78-40f9-a216-2c24e32477de
DTSTAMP:20260420T115445Z
DTSTART;VALUE=DATE:20260402
SUMMARY:Maundy Thursday (Venezuela)
END:VEVENT
END:VCALENDAR