BEGIN:VCALENDAR
VERSION:2.0
PRODID:-//time.you/holidays//NONSGML v1.0//EN
BEGIN:VEVENT
UID:6f43cd7c-bc81-44b0-818b-552dc98089d5
DTSTAMP:20260424T143926Z
DTSTART;VALUE=DATE:20260101
SUMMARY:New Year's Day (Venezuela)
END:VEVENT
END:VCALENDAR