BEGIN:VCALENDAR
VERSION:2.0
PRODID:-//time.you/holidays//NONSGML v1.0//EN
BEGIN:VEVENT
UID:0dd17b9f-a098-464a-ad10-ac479ca3363f
DTSTAMP:20260421T204737Z
DTSTART;VALUE=DATE:20261231
SUMMARY:New Year's Eve (Venezuela)
END:VEVENT
END:VCALENDAR